BEGIN:VCALENDAR
VERSION:2.0
PRODID:-//Squarespace Inc/Squarespace 6//v6//EN
BEGIN:VEVENT
UID:57b54224ebbd1ad66b0d0502@squarespace.com
DTSTAMP:20160903T025635Z
DTSTART:20160818T053000Z
DTEND:20161231T063000Z
SUMMARY:CRE8TIVE MIX OFFERS: ABORIGINAL BUSH TUCKER AND MEDICINE PLANT TOUR
 S.
END:VEVENT
END:VCALENDAR
