BEGIN:VCALENDAR
VERSION:2.0
PRODID:-//Squarespace Inc/Squarespace 6//v6//EN
BEGIN:VEVENT
UID:5480462ce4b0e96f9a1582a0@squarespace.com
DTSTAMP:20141204T121035Z
DTSTART:20141205T220000Z
DTEND:20141206T050000Z
SUMMARY:Goondiwindi Christmas Markets
END:VEVENT
END:VCALENDAR
